BEGIN:VCALENDAR
VERSION:2.0
METHOD:PUBLISH
CALSCALE:GREGORIAN
PRODID:-//WordPress - MECv7.26.0//EN
X-ORIGINAL-URL:https://www.cramersridgerealestate.com/
X-WR-CALNAME:Cramers Ridge Real Estate
X-WR-CALDESC:Real Estate in Virginia
X-WR-TIMEZONE:America/New_York
BEGIN:VTIMEZONE
TZID:America/New_York
X-LIC-LOCATION:America/New_York
BEGIN:DAYLIGHT
TZOFFSETFROM:-0500
TZOFFSETTO:-0400
TZNAME:EDT
DTSTART:20260308T030000
RRULE:FREQ=YEARLY;BYMONTH=03;BYDAY=2SU
END:DAYLIGHT
BEGIN:STANDARD
TZOFFSETFROM:-0400
TZOFFSETTO:-0500
TZNAME:EST
DTSTART:20261101T010000
RRULE:FREQ=YEARLY;BYMONTH=11;BYDAY=1SU
END:STANDARD
END:VTIMEZONE
REFRESH-INTERVAL;VALUE=DURATION:PT1H
X-PUBLISHED-TTL:PT1H
X-MS-OLK-FORCEINSPECTOROPEN:TRUE
BEGIN:VEVENT
CLASS:PUBLIC
UID:MEC-d72fbbccd9fe64c3a14f85d225a046f4@cramersridgerealestate.com
DTSTART;TZID=America/New_York:20260704T000000
DTEND;TZID=America/New_York:20260705T000000
DTSTAMP:20100403T212840Z
RRULE:FREQ=YEARLY
CREATED:20100403
LAST-MODIFIED:20240126
PRIORITY:5
SEQUENCE:2
TRANSP:OPAQUE
SUMMARY:4th of July
DESCRIPTION:As the summer sun graces our beautiful neighborhood and the scent of barbecues wafts through the air, it can only mean one thing – Independence Day is here! Get ready to don your red, white, and blue, because it is the 4th of July.\nA Day Packed with Patriotism and Fun\nOur community has always been about more than just homes and streets; it’s about the people who make Cramers Ridge a vibrant and welcoming place to call home. And what better way to celebrate our shared spirit than on the day our great nation declared its independence?\nDazzling Fireworks Display\nAs the sun sets and the sky darkens, prepare to be captivated by a breathtaking fireworks display. Our community has spared no expense in bringing you a show that will light up the night sky in brilliant colors, echoing the joy and pride we feel for our remarkable nation.\nSafety First\nWhile we revel in the joy of Independence Day, let’s remember to celebrate safely. Keep an eye on the little ones, adhere to traffic rules during the day’s events, and if you’re handling fireworks at home, please follow all safety guidelines.\nGratitude and Unity\nAs we gather with our family and friends on this special day, let’s take a moment to reflect on the unity that binds us as a community. The strength of Cramers Ridge lies in its people, and together, we create a tapestry of diversity, resilience, and shared values.\nWishing each and every one of you a Happy 4th of July! May the day be filled with laughter, love, and a deep appreciation for the freedoms we hold dear.\n
URL:https://www.cramersridgerealestate.com/events/4th-of-july/
CATEGORIES:Community
ATTACH;FMTTYPE=image/png:https://www.cramersridgerealestate.com/wp-content/uploads/2010/04/4th-of-july.png
END:VEVENT
BEGIN:VEVENT
CLASS:PUBLIC
UID:MEC-0f46c64b74a6c964c674853a89796c8e@cramersridgerealestate.com
DTSTART;TZID=America/New_York:20261031T193000
DTEND;TZID=America/New_York:20261031T203000
DTSTAMP:20091018T065922Z
RRULE:FREQ=YEARLY
CREATED:20091018
LAST-MODIFIED:20240912
PRIORITY:5
SEQUENCE:3
TRANSP:OPAQUE
SUMMARY:Trick or Treat
DESCRIPTION:🎃👻 Spooktacular Trick-or-Treating! 👻🎃\nGet ready for a night of Halloween magic and sweet delights! Cramers Ridge annual Trick-or-Treating Extravaganza.\n📅 Date: October 31st\n🕖 Time: Dusk\nExplore our chilling decorations. From friendly ghosts to creepy crawlies, our community transforms into a Halloween wonderland.\nWander through our neighborhood and visit all our homes. Collect an assortment of candies and treats from our friendly owners. Don’t forget to say “trick-or-treat” with a big smile!\nHalloween is about community, and we can’t wait to celebrate with you!\n🔒 Safety First: We prioritize the safety of our community. Please follow any posted guidelines and be mindful of others.\nDon’t miss out on the spookiest event of the season! Please mark your calendars, gather your ghouls and goblins, and join others in the community for a night of trick-or-treating fun. 👻🎃🎃👻\n
URL:https://www.cramersridgerealestate.com/events/trick-or-treat/
CATEGORIES:Community
ATTACH;FMTTYPE=image/png:https://www.cramersridgerealestate.com/wp-content/uploads/2009/10/Halloween.png
END:VEVENT
BEGIN:VEVENT
CLASS:PUBLIC
UID:MEC-f8037f94e53f17a2cc301033ca86d278@cramersridgerealestate.com
DTSTART;TZID=America/New_York:20260926T160000
DTEND;TZID=America/New_York:20260926T200000
DTSTAMP:20250921T102633Z
CREATED:20250921
LAST-MODIFIED:20250921
PRIORITY:5
SEQUENCE:41
TRANSP:OPAQUE
SUMMARY:The Miller’s 2026 Summer Party
DESCRIPTION:Get ready for the highlight of the summer – the 2026 Miller’s Summer Party!We’re thrilled to announce that the next event will take place on Saturday, September 26th, 2026, starting at 4:00 PM. It’s a celebration you won’t want to miss, filled with fun, laughter, and a sense of community that makes our community truly special.\nEvent Details:\nDate: Saturday, September 26th, 2026Time: 4:00 pmLocation: Heather Miller’s residence on Lady Catherine Circle and Potomac Crest Drive, Triangle, Virginia\n\nConnect with neighbors, make new friends, and strengthen the bonds that make our community unique. This is the perfect opportunity to forge lasting connections.\nPlease bring your favorite dish. (Not Required.) Refreshing beverages will be provided.\nPlenty of activities will keep everyone entertained. Get ready for an evening of laughter and camaraderie.\nDiscover the talents and creativity within our community. We’ll have a space to showcase local artists, crafters, and entrepreneurs. If you’re interested in participating, don’t hesitate to get in touch with Heather Miller at heather@cramersridge.com.\n\nHow to Get Involved\n\nWe’re always looking for helping hands to ensure the success of our community events. If you’d like to volunteer, don’t hesitate to get in touch with Heather Miller at heather@cramersridge.com.\nIf you’re a local business owner or artisan, consider securing a vendor space to showcase your products or services. Contact Heather Miller at heather@cramersridge.com for more information.\n\nMark Your Calendars\nDon’t miss out on the 2026 Miller’s Summer Gathering! Please save the date, invite your family, and join us for an unforgettable evening of community spirit. We can’t wait to see you all there!\nLet’s make this the best one yet!\nNote: Not affiliated with Cramer’s Ridge Homeowner Association.\n\n\n\n
URL:https://www.cramersridgerealestate.com/events/the-millers-2026-summer-party-294/
ORGANIZER;CN=Heather Miller:MAILTO:heather@cramersridge.com
CATEGORIES:Community
LOCATION:3372 Lady Catherine Circle, Triangle, VA
ATTACH;FMTTYPE=image/png:https://www.cramersridgerealestate.com/wp-content/uploads/2025/09/the-millers-event-26.png
END:VEVENT
END:VCALENDAR
